BEGIN:VCALENDAR
VERSION:2.0
PRODID:-//Binja - ECPv6.15.12.2//NONSGML v1.0//EN
CALSCALE:GREGORIAN
METHOD:PUBLISH
X-ORIGINAL-URL:https://www.binja.ch
X-WR-CALDESC:Veranstaltungen für Binja
REFRESH-INTERVAL;VALUE=DURATION:PT1H
X-Robots-Tag:noindex
X-PUBLISHED-TTL:PT1H
BEGIN:VTIMEZONE
TZID:Europe/Zurich
BEGIN:DAYLIGHT
TZOFFSETFROM:+0100
TZOFFSETTO:+0200
TZNAME:CEST
DTSTART:20240331T010000
END:DAYLIGHT
BEGIN:STANDARD
TZOFFSETFROM:+0200
TZOFFSETTO:+0100
TZNAME:CET
DTSTART:20241027T010000
END:STANDARD
BEGIN:DAYLIGHT
TZOFFSETFROM:+0100
TZOFFSETTO:+0200
TZNAME:CEST
DTSTART:20250330T010000
END:DAYLIGHT
BEGIN:STANDARD
TZOFFSETFROM:+0200
TZOFFSETTO:+0100
TZNAME:CET
DTSTART:20251026T010000
END:STANDARD
BEGIN:DAYLIGHT
TZOFFSETFROM:+0100
TZOFFSETTO:+0200
TZNAME:CEST
DTSTART:20260329T010000
END:DAYLIGHT
BEGIN:STANDARD
TZOFFSETFROM:+0200
TZOFFSETTO:+0100
TZNAME:CET
DTSTART:20261025T010000
END:STANDARD
END:VTIMEZONE
BEGIN:VEVENT
DTSTART;TZID=Europe/Zurich:20250225T190000
DTEND;TZID=Europe/Zurich:20250225T213000
DTSTAMP:20260426T055611
CREATED:20250130T123431Z
LAST-MODIFIED:20250130T130420Z
UID:10000217-1740510000-1740519000@www.binja.ch
SUMMARY:Achtsamer Schulalltag mit den BINJA-Unterrichtsmaterialien
DESCRIPTION:Achtsamer Schulalltag mit den BINJA-Unterrichtsmaterialien \n\n\nKantonale Lehrerfortbildungskurse des Kanton St.Gallen\nwww.wbs.sg.ch\, Modul Nr. 1001\n\nZiele:\n– Einführung in die BINJA-Materialien\n– Sicherheit gewinnen in der Durchführung von Stille und inneren Reisen\n– Stabilisierung bei herausfordernden Gefühlen \nLeitung:\nRuth Monstein (Coach\, Fachberatung Psychotraumatologie\, Primarlehrperson) \nStufe:\nLehrpersonen aller Schulstufen\nLogopäden/innen\nSchulleitung\nSchulische Heilpädagogen/innen \nVeranstaltungsort:\nPH St.Gallen \nDauer:\n1 Tag \nDaten:\nDienstag\, 11.2.2025\nDienstag\, 18.2.2025\nDienstag\, 25.2.2025\njeweils von 19 – 21.30 Uhr
URL:https://www.binja.ch/veranstaltung/achtsamer-schulalltag-mit-den-binja-unterrichtsmaterialien/2025-02-25/
LOCATION:PH St.Gallen\, Notkerstrasse 27\, St.Gallen\, St. Gallen\, 9000\, Switzerland
CATEGORIES:Lehrpersonen,St.Gallen
ORGANIZER;CN="Ruth Monstein - Binja":MAILTO:info@binja.ch
END:VEVENT
BEGIN:VEVENT
DTSTART;TZID=Europe/Zurich:20250218T190000
DTEND;TZID=Europe/Zurich:20250218T213000
DTSTAMP:20260426T055611
CREATED:20250130T123431Z
LAST-MODIFIED:20250130T130420Z
UID:10000216-1739905200-1739914200@www.binja.ch
SUMMARY:Achtsamer Schulalltag mit den BINJA-Unterrichtsmaterialien
DESCRIPTION:Achtsamer Schulalltag mit den BINJA-Unterrichtsmaterialien \n\n\nKantonale Lehrerfortbildungskurse des Kanton St.Gallen\nwww.wbs.sg.ch\, Modul Nr. 1001\n\nZiele:\n– Einführung in die BINJA-Materialien\n– Sicherheit gewinnen in der Durchführung von Stille und inneren Reisen\n– Stabilisierung bei herausfordernden Gefühlen \nLeitung:\nRuth Monstein (Coach\, Fachberatung Psychotraumatologie\, Primarlehrperson) \nStufe:\nLehrpersonen aller Schulstufen\nLogopäden/innen\nSchulleitung\nSchulische Heilpädagogen/innen \nVeranstaltungsort:\nPH St.Gallen \nDauer:\n1 Tag \nDaten:\nDienstag\, 11.2.2025\nDienstag\, 18.2.2025\nDienstag\, 25.2.2025\njeweils von 19 – 21.30 Uhr
URL:https://www.binja.ch/veranstaltung/achtsamer-schulalltag-mit-den-binja-unterrichtsmaterialien/2025-02-18/
LOCATION:PH St.Gallen\, Notkerstrasse 27\, St.Gallen\, St. Gallen\, 9000\, Switzerland
CATEGORIES:Lehrpersonen,St.Gallen
ORGANIZER;CN="Ruth Monstein - Binja":MAILTO:info@binja.ch
END:VEVENT
BEGIN:VEVENT
DTSTART;TZID=Europe/Zurich:20250211T190000
DTEND;TZID=Europe/Zurich:20250211T213000
DTSTAMP:20260426T055611
CREATED:20250130T123431Z
LAST-MODIFIED:20250130T130420Z
UID:10000215-1739300400-1739309400@www.binja.ch
SUMMARY:Achtsamer Schulalltag mit den BINJA-Unterrichtsmaterialien
DESCRIPTION:Achtsamer Schulalltag mit den BINJA-Unterrichtsmaterialien \n\n\nKantonale Lehrerfortbildungskurse des Kanton St.Gallen\nwww.wbs.sg.ch\, Modul Nr. 1001\n\nZiele:\n– Einführung in die BINJA-Materialien\n– Sicherheit gewinnen in der Durchführung von Stille und inneren Reisen\n– Stabilisierung bei herausfordernden Gefühlen \nLeitung:\nRuth Monstein (Coach\, Fachberatung Psychotraumatologie\, Primarlehrperson) \nStufe:\nLehrpersonen aller Schulstufen\nLogopäden/innen\nSchulleitung\nSchulische Heilpädagogen/innen \nVeranstaltungsort:\nPH St.Gallen \nDauer:\n1 Tag \nDaten:\nDienstag\, 11.2.2025\nDienstag\, 18.2.2025\nDienstag\, 25.2.2025\njeweils von 19 – 21.30 Uhr
URL:https://www.binja.ch/veranstaltung/achtsamer-schulalltag-mit-den-binja-unterrichtsmaterialien/2025-02-11/
LOCATION:PH St.Gallen\, Notkerstrasse 27\, St.Gallen\, St. Gallen\, 9000\, Switzerland
CATEGORIES:Lehrpersonen,St.Gallen
ORGANIZER;CN="Ruth Monstein - Binja":MAILTO:info@binja.ch
END:VEVENT
END:VCALENDAR