BEGIN:VCALENDAR
VERSION:2.0
PRODID:-//Binja - ECPv6.15.12.2//NONSGML v1.0//EN
CALSCALE:GREGORIAN
METHOD:PUBLISH
X-ORIGINAL-URL:https://www.binja.ch
X-WR-CALDESC:Veranstaltungen für Binja
REFRESH-INTERVAL;VALUE=DURATION:PT1H
X-Robots-Tag:noindex
X-PUBLISHED-TTL:PT1H
BEGIN:VTIMEZONE
TZID:Europe/Zurich
BEGIN:DAYLIGHT
TZOFFSETFROM:+0100
TZOFFSETTO:+0200
TZNAME:CEST
DTSTART:20240331T010000
END:DAYLIGHT
BEGIN:STANDARD
TZOFFSETFROM:+0200
TZOFFSETTO:+0100
TZNAME:CET
DTSTART:20241027T010000
END:STANDARD
BEGIN:DAYLIGHT
TZOFFSETFROM:+0100
TZOFFSETTO:+0200
TZNAME:CEST
DTSTART:20250330T010000
END:DAYLIGHT
BEGIN:STANDARD
TZOFFSETFROM:+0200
TZOFFSETTO:+0100
TZNAME:CET
DTSTART:20251026T010000
END:STANDARD
BEGIN:DAYLIGHT
TZOFFSETFROM:+0100
TZOFFSETTO:+0200
TZNAME:CEST
DTSTART:20260329T010000
END:DAYLIGHT
BEGIN:STANDARD
TZOFFSETFROM:+0200
TZOFFSETTO:+0100
TZNAME:CET
DTSTART:20261025T010000
END:STANDARD
END:VTIMEZONE
BEGIN:VEVENT
DTSTART;TZID=Europe/Zurich:20251218T193000
DTEND;TZID=Europe/Zurich:20251218T210000
DTSTAMP:20260424T104214
CREATED:20250130T130343Z
LAST-MODIFIED:20250130T151700Z
UID:10000225-1766086200-1766091600@www.binja.ch
SUMMARY:Mediationsabend in Eggersriet
DESCRIPTION:Kosten:\nCHF 20\,. \nUhrzeit:\n19:30 – 21 uhr \nAnmeldung und Information:\nruth@ruthmonstein.ch
URL:https://www.binja.ch/veranstaltung/mediationsabend-in-eggersriet/2025-12-18/
LOCATION:Eggersriet\, Sonderstrasse 22\, Eggersriet\, St. Gallen\, 9034\, Switzerland
CATEGORIES:Meditation
ORGANIZER;CN="Ruth Monstein":MAILTO:info@ruthmonstein.ch
END:VEVENT
BEGIN:VEVENT
DTSTART;TZID=Europe/Zurich:20251127T193000
DTEND;TZID=Europe/Zurich:20251127T210000
DTSTAMP:20260424T104214
CREATED:20250130T130343Z
LAST-MODIFIED:20250130T151700Z
UID:10000224-1764271800-1764277200@www.binja.ch
SUMMARY:Mediationsabend in Eggersriet
DESCRIPTION:Kosten:\nCHF 20\,. \nUhrzeit:\n19:30 – 21 uhr \nAnmeldung und Information:\nruth@ruthmonstein.ch
URL:https://www.binja.ch/veranstaltung/mediationsabend-in-eggersriet/2025-11-27/
LOCATION:Eggersriet\, Sonderstrasse 22\, Eggersriet\, St. Gallen\, 9034\, Switzerland
CATEGORIES:Meditation
ORGANIZER;CN="Ruth Monstein":MAILTO:info@ruthmonstein.ch
END:VEVENT
BEGIN:VEVENT
DTSTART;TZID=Europe/Zurich:20251023T193000
DTEND;TZID=Europe/Zurich:20251023T210000
DTSTAMP:20260424T104214
CREATED:20250130T130343Z
LAST-MODIFIED:20250130T151700Z
UID:10000223-1761247800-1761253200@www.binja.ch
SUMMARY:Mediationsabend in Eggersriet
DESCRIPTION:Kosten:\nCHF 20\,. \nUhrzeit:\n19:30 – 21 uhr \nAnmeldung und Information:\nruth@ruthmonstein.ch
URL:https://www.binja.ch/veranstaltung/mediationsabend-in-eggersriet/2025-10-23/
LOCATION:Eggersriet\, Sonderstrasse 22\, Eggersriet\, St. Gallen\, 9034\, Switzerland
CATEGORIES:Meditation
ORGANIZER;CN="Ruth Monstein":MAILTO:info@ruthmonstein.ch
END:VEVENT
BEGIN:VEVENT
DTSTART;TZID=Europe/Zurich:20250925T193000
DTEND;TZID=Europe/Zurich:20250925T210000
DTSTAMP:20260424T104214
CREATED:20250130T130343Z
LAST-MODIFIED:20250130T151700Z
UID:10000222-1758828600-1758834000@www.binja.ch
SUMMARY:Mediationsabend in Eggersriet
DESCRIPTION:Kosten:\nCHF 20\,. \nUhrzeit:\n19:30 – 21 uhr \nAnmeldung und Information:\nruth@ruthmonstein.ch
URL:https://www.binja.ch/veranstaltung/mediationsabend-in-eggersriet/2025-09-25/
LOCATION:Eggersriet\, Sonderstrasse 22\, Eggersriet\, St. Gallen\, 9034\, Switzerland
CATEGORIES:Meditation
ORGANIZER;CN="Ruth Monstein":MAILTO:info@ruthmonstein.ch
END:VEVENT
BEGIN:VEVENT
DTSTART;TZID=Europe/Zurich:20250828T193000
DTEND;TZID=Europe/Zurich:20250828T210000
DTSTAMP:20260424T104214
CREATED:20250130T130343Z
LAST-MODIFIED:20250130T151700Z
UID:10000221-1756409400-1756414800@www.binja.ch
SUMMARY:Mediationsabend in Eggersriet
DESCRIPTION:Kosten:\nCHF 20\,. \nUhrzeit:\n19:30 – 21 uhr \nAnmeldung und Information:\nruth@ruthmonstein.ch
URL:https://www.binja.ch/veranstaltung/mediationsabend-in-eggersriet/2025-08-28/
LOCATION:Eggersriet\, Sonderstrasse 22\, Eggersriet\, St. Gallen\, 9034\, Switzerland
CATEGORIES:Meditation
ORGANIZER;CN="Ruth Monstein":MAILTO:info@ruthmonstein.ch
END:VEVENT
BEGIN:VEVENT
DTSTART;TZID=Europe/Zurich:20250626T193000
DTEND;TZID=Europe/Zurich:20250626T210000
DTSTAMP:20260424T104214
CREATED:20250130T130343Z
LAST-MODIFIED:20250130T151700Z
UID:10000220-1750966200-1750971600@www.binja.ch
SUMMARY:Mediationsabend in Eggersriet
DESCRIPTION:Kosten:\nCHF 20\,. \nUhrzeit:\n19:30 – 21 uhr \nAnmeldung und Information:\nruth@ruthmonstein.ch
URL:https://www.binja.ch/veranstaltung/mediationsabend-in-eggersriet/2025-06-26/
LOCATION:Eggersriet\, Sonderstrasse 22\, Eggersriet\, St. Gallen\, 9034\, Switzerland
CATEGORIES:Meditation
ORGANIZER;CN="Ruth Monstein":MAILTO:info@ruthmonstein.ch
END:VEVENT
BEGIN:VEVENT
DTSTART;TZID=Europe/Zurich:20250522T193000
DTEND;TZID=Europe/Zurich:20250522T210000
DTSTAMP:20260424T104214
CREATED:20250130T130343Z
LAST-MODIFIED:20250130T151700Z
UID:10000219-1747942200-1747947600@www.binja.ch
SUMMARY:Mediationsabend in Eggersriet
DESCRIPTION:Kosten:\nCHF 20\,. \nUhrzeit:\n19:30 – 21 uhr \nAnmeldung und Information:\nruth@ruthmonstein.ch
URL:https://www.binja.ch/veranstaltung/mediationsabend-in-eggersriet/2025-05-22/
LOCATION:Eggersriet\, Sonderstrasse 22\, Eggersriet\, St. Gallen\, 9034\, Switzerland
CATEGORIES:Meditation
ORGANIZER;CN="Ruth Monstein":MAILTO:info@ruthmonstein.ch
END:VEVENT
BEGIN:VEVENT
DTSTART;TZID=Europe/Zurich:20250424T193000
DTEND;TZID=Europe/Zurich:20250424T210000
DTSTAMP:20260424T104214
CREATED:20250130T130343Z
LAST-MODIFIED:20250130T151700Z
UID:10000227-1745523000-1745528400@www.binja.ch
SUMMARY:Mediationsabend in Eggersriet
DESCRIPTION:Kosten:\nCHF 20\,. \nUhrzeit:\n19:30 – 21 uhr \nAnmeldung und Information:\nruth@ruthmonstein.ch
URL:https://www.binja.ch/veranstaltung/mediationsabend-in-eggersriet/2025-04-24/
LOCATION:Eggersriet\, Sonderstrasse 22\, Eggersriet\, St. Gallen\, 9034\, Switzerland
CATEGORIES:Meditation
ORGANIZER;CN="Ruth Monstein":MAILTO:info@ruthmonstein.ch
END:VEVENT
BEGIN:VEVENT
DTSTART;TZID=Europe/Zurich:20250327T193000
DTEND;TZID=Europe/Zurich:20250327T210000
DTSTAMP:20260424T104214
CREATED:20250130T130343Z
LAST-MODIFIED:20250130T151700Z
UID:10000218-1743103800-1743109200@www.binja.ch
SUMMARY:Mediationsabend in Eggersriet
DESCRIPTION:Kosten:\nCHF 20\,. \nUhrzeit:\n19:30 – 21 uhr \nAnmeldung und Information:\nruth@ruthmonstein.ch
URL:https://www.binja.ch/veranstaltung/mediationsabend-in-eggersriet/2025-03-27/
LOCATION:Eggersriet\, Sonderstrasse 22\, Eggersriet\, St. Gallen\, 9034\, Switzerland
CATEGORIES:Meditation
ORGANIZER;CN="Ruth Monstein":MAILTO:info@ruthmonstein.ch
END:VEVENT
BEGIN:VEVENT
DTSTART;TZID=Europe/Zurich:20250227T193000
DTEND;TZID=Europe/Zurich:20250227T210000
DTSTAMP:20260424T104214
CREATED:20250130T130343Z
LAST-MODIFIED:20250130T151700Z
UID:10000214-1740684600-1740690000@www.binja.ch
SUMMARY:Mediationsabend in Eggersriet
DESCRIPTION:Kosten:\nCHF 20\,. \nUhrzeit:\n19:30 – 21 uhr \nAnmeldung und Information:\nruth@ruthmonstein.ch
URL:https://www.binja.ch/veranstaltung/mediationsabend-in-eggersriet/2025-02-27/2/
LOCATION:Eggersriet\, Sonderstrasse 22\, Eggersriet\, St. Gallen\, 9034\, Switzerland
CATEGORIES:Meditation
ORGANIZER;CN="Ruth Monstein":MAILTO:info@ruthmonstein.ch
END:VEVENT
BEGIN:VEVENT
DTSTART;TZID=Europe/Zurich:20250227T080000
DTEND;TZID=Europe/Zurich:20250227T170000
DTSTAMP:20260424T104214
CREATED:20250130T130343Z
LAST-MODIFIED:20250130T151700Z
UID:10000226-1740643200-1740675600@www.binja.ch
SUMMARY:Mediationsabend in Eggersriet
DESCRIPTION:Kosten:\nCHF 20\,. \nUhrzeit:\n19:30 – 21 uhr \nAnmeldung und Information:\nruth@ruthmonstein.ch
URL:https://www.binja.ch/veranstaltung/mediationsabend-in-eggersriet/2025-02-27/1/
LOCATION:Eggersriet\, Sonderstrasse 22\, Eggersriet\, St. Gallen\, 9034\, Switzerland
CATEGORIES:Meditation
ORGANIZER;CN="Ruth Monstein":MAILTO:info@ruthmonstein.ch
END:VEVENT
END:VCALENDAR